Workbook
Name a: #REF!
Name a: #REF!
Name a_8: #REF!
Name a_8: #REF!
Name izolacja: #REF!
Name izolacja: #REF!
Name izolacja_10: #REF!
Name izolacja_10: #REF!
Name izolacja_11: #REF!
Name izolacja_11: #REF!
Name izolacja_12: #REF!
Name izolacja_12: #REF!
Name izolacja_13: #REF!
Name izolacja_13: #REF!
Name izolacja_14: #REF!
Name izolacja_14: #REF!
Name izolacja_15: #REF!
Name izolacja_15: #REF!
Name izolacja_16: #REF!
Name izolacja_16: #REF!
Name izolacja_17: #REF!
Name izolacja_17: #REF!
Name izolacja_18: #REF!
Name izolacja_18: #REF!
Name izolacja_19: #REF!
Name izolacja_19: #REF!
Name izolacja_20: #REF!
Name izolacja_20: #REF!
Name izolacja_21: #REF!
Name izolacja_21: #REF!
Name izolacja_22: #REF!
Name izolacja_22: #REF!
Name izolacja_23: #REF!
Name izolacja_23: #REF!
Name izolacja_24: #REF!
Name izolacja_24: #REF!
Name izolacja_5: #REF!
Name izolacja_5: #REF!
Name izolacja_6: #REF!
Name izolacja_6: #REF!
Name izolacja_7: #REF!
Name izolacja_7: #REF!
Name izolacja_8: #REF!
Name izolacja_8: #REF!
Name izolacja_9: #REF!
Name izolacja_9: #REF!
Name n: '[1]WA 20'!$E$51
Name netto: #REF!
Name netto: #REF!
Name nie: #REF!
Name nie: #REF!
Name nie_11: #REF!
Name nie_11: #REF!
Name nie_24: #REF!
Name nie_24: #REF!
Name PI: #REF!
Name PI: #REF!
Name wynik: #REF!
Name wynik: #REF!
Name wynik_10: #REF!

Sheet ZZK
A1: ZBIORCZE ZESTAWIENIE KOSZTÓW
A3: Lp | B3: Wyszczególnienie elementów | C3: Wartość netto PLN
A4: 1 | B4: 2 | C4: 3
A5: 1 | B5: WYMAGANIA OGÓLNE | C5: ='1 Wymagania'!G13 -> 0
A6: 2 | B6: BRANŻA DROGOWA | C6: ='2 Drogi'!G74 -> 0
A7: 3 | B7: OBIEKTY INŻYNIERSKIE | C7: =C8+C9 -> 0
A8: 3a | B8: Budowa przepustu wraz z zastawką | C8: ='3a Przepust'!G40 -> 0
A9: 3b | B9: Mur z gabionów | C9: ='3b Mur oporowy'!G8 -> 0
A10: 4 | B10: ZIELEŃ | C10: =C11+C12 -> 0
A11: 4a | B11: Wycinka drzew | C11: ='4a Wycinka drzew'!G17 -> 0
A12: 4b | B12: Zieleń - nasadzenia zastepcze | C12: ='4b Nasadzenia zastepcze'!G35 -> 0
A13: 5 | B13: BRANŻA ELEKTRYCZNA | C13: =C14+C15 -> 0
A14: 5a | B14: Oświetlenie | C14: ='5a Oswietlenie'!G45 -> 0
A15: 5b | B15: Sieci nN i sN | C15: ='5b nN i SN'!G42 -> 0
A16: 6 | B16: BRANŻA WOD-KAN | C16: =C17+C18 -> 0
A17: 6a | B17: Kanalizacja deszczowa | C17: ='6 Wod_kan'!G40 -> 0
A18: 6b | B18: Przebudowa sieci wodociagowej | C18: ='6 Wod_kan'!G75 -> 0
A19: 7 | B19: TELETECHNIKA | C19: =C20+C21 -> 0
A20: 7a | B20: Miejski Kanał Technologiczny - MKT | C20: ='7a MKT'!G10 -> 0
A21: 7b | B21: Przebudowa i zabezpieczenie sieci Orange Polska S.A. i TELKOL sp z o.o. | C21: ='7b Kolizje teletechniczne'!G39 -> 0
A22: 8 | B22: INŻYNIERIA RUCHU | C22: ='8 DOR'!G27 -> 0
B23: Razem wartość robót netto | C23: =C5+C6+C7+C10+C13+C16+C19+C22 -> 0
B24: VAT | C24: =ROUND(C23*0.23,2) -> 0
B25: Razem wartość robót brutto | C25: =C23+C24 -> 0

Sheet 1 Wymagania
A1: WYMAGANIA OGÓLNE
A3: Lp. | B3: Nr STWiORB | C3: Opis | D3: jedn. | E3: ilość | F3: Cena jedn. | G3: Wartość
B4: D-00.00.00 | C4: WYMAGANIA OGÓLNE
A5: 1 | B5: D-00.00.00 | C5: Dokumentacja Projektowa do opracowania przez Wykonawcę wg.p.1.5.3. STWiORB DM 00.00.00. | D5: kpl | E5: 1 | G5: =ROUND(F5*E5,2) -> 0
A6: 2 | B6: D-00.00.00 | C6: Koszt dostosowania sie do pozostałych wymagań Warunków Kontraktu i Wymagań Ogólnych zawartych w Specyfikacji Technicznej DM 00.00.00 | D6: kpl | E6: 1 | G6: =ROUND(F6*E6,2) -> 0
A7: 3 | B7: D-00.00.00 | C7: Dokumentacja powykonawcza | D7: kpl | E7: 1 | G7: =ROUND(F7*E7,2) -> 0
B8: D-00.00.01 | C8: ZAPLECZE WYKONAWCY
A9: 4 | B9: D-00.00.01 | C9: Dostarczenie utrzymanie i usuniecie po zakończeniu robót wszystkich tymczasowych obiektów budowy | D9: kpl | E9: 1 | G9: =ROUND(F9*E9,2) -> 0
B10: D-01.01.01 | C10: OBSŁUGA GEODEZYJNA
A11: 5 | B11: D-01.01.01 | C11: Obsluga geodezyjna budowy | D11: kpl | E11: 1 | G11: =ROUND(F11*E11,2) -> 0
A12: 6 | B12: D-01.01.01 | C12: Geodezyjna dokumentacja powykonawcza | D12: kpl | E12: 1 | G12: =ROUND(F12*E12,2) -> 0
A13: RAZEM NETTO: | G13: =SUM(G5:G7,G9,G11:G12) -> 0

Sheet 2 Drogi
A1: ROBOTY DROGOWE WRAZ Z DOSZCZELNIENIEM NASYPU
A3: Lp. | B3: Nr STWiORB | C3: Opis | D3: jedn. | E3: ilość | F3: Cena jedn. | G3: Wartość
B4: ROBOTY PRZYGOTOWAWCZE
A5: 1 | B5: D-01.01.02. | C5: Roboty pomiarowe przy liniowych robotach ziemnych | D5: km | E5: 0.9 | G5: =ROUND(E5*F5,2) -> 0
A6: =A5+1 -> 2 | B6: D-01.02.02. | C6: Usunięcie warstwy ziemi urodzajnej (humusu) o grubości 100 cm za pomocą spycharek - humus na odkład | D6: m3 | E6: 3025.4 | G6: =ROUND(E6*F6,2) -> 0
A7: =A6+1 -> 3 | B7: D-01.02.02. | C7: Wywóz ziemi samochodami samowyładowczymi na działkę 25/3 AM-12 obręb Złotniki | D7: m3 | E7: 1294.74 | G7: =ROUND(E7*F7,2) -> 0
B8: ROZBIÓRKI
A9: =A7+1 -> 4 | B9: D-01.02.04. | C9: Rozebranie nawierzchni z kostki kamiennej rzędowej o wysokości 18 cm na podsypce cementowo-piaskowej Odzysk kostki 80% | D9: m2 | E9: 1988.4 | G9: =ROUND(E9*F9,2) -> 0
A10: =A9+1 -> 5 | B10: D-01.02.04. | C10: Rozebranie nawierzchni z mieszanek mineralno-bitumicznych o grubości 4 cm | D10: m2 | E10: 407.7 | G10: =ROUND(E10*F10,2) -> 0
A11: =A10+1 -> 6 | B11: D-01.02.04. | C11: Rozebranie nawierzchni z tłucznia kamiennego o grubości 20 cm | D11: m2 | E11: 122.5 | G11: =ROUND(E11*F11,2) -> 0
A12: =A11+1 -> 7 | B12: D-01.02.04. | C12: Rozebranie podbudowy z kruszywa kamiennego o grubości 15 cm | D12: m2 | E12: 2396.1 | G12: =ROUND(E12*F12,2) -> 0
A13: =A12+1 -> 8 | B13: D-01.02.04. | C13: Rozebranie krawężników betonowych 15x30 cm na podsypce cementowo-piaskowej | D13: m | E13: 68.3 | G13: =ROUND(E13*F13,2) -> 0
A14: =A13+1 -> 9 | B14: D-01.02.04. | C14: Rozebranie obrzeży 8x30 cm na podsypce piaskowej | D14: m | E14: 44 | G14: =ROUND(E14*F14,2) -> 0
A15: =A14+1 -> 10 | B15: D-01.02.04. | C15: Rozebranie krawężników kamiennych 15X30 cm na podsypce cementowo-piaskowej Odzysk 20% | D15: m | E15: 172.4 | G15: =ROUND(E15*F15,2) -> 0
A16: =A15+1 -> 11 | B16: D-01.02.04. | C16: Rozebranie ław pod krawężniki z betonu | D16: m3 | E16: 21.02 | G16: =ROUND(E16*F16,2) -> 0
A17: =A16+1 -> 12 | B17: D-01.02.04. | C17: Załadowanie i wywiezienie gruzu (beton/kruszywo) z terenu rozbiórki na składowisko Wykonawcy wraz z utylizacją | D17: m3 | E17: 408.53 | G17: =ROUND(E17*F17,2) -> 0
A18: =A17+1 -> 13 | B18: D-01.02.04. | C18: Załadowanie i wywiezienie gruzu bitumicznego z terenu rozbiórki na składowisko Wykonawcy wraz z utylizacją | D18: m3 | E18: 16.31 | G18: =ROUND(E18*F18,2) -> 0
A19: =A18+1 -> 14 | B19: D-01.02.04. | C19: Oczyszczenie materiału kamiennego do ponownego wbudowania | D19: t | E19: 741.3 | G19: =ROUND(E19*F19,2) -> 0
A20: =A19+1 -> 15 | B20: D-01.02.04. | C20: Transport materiału kamiennego na składowisko ZDiUM | D20: t | E20: 550.8 | G20: =ROUND(E20*F20,2) -> 0
B21: ROBOTY KRAWĘŻNIKOWE
A22: =A20+1 -> 16 | B22: D-08.01.02. | C22: Ława pod krawężniki i obrzeża betonowe z oporem z betonu C16/20 | D22: m3 | E22: 136.23 | G22: =ROUND(E22*F22,2) -> 0
A23: =A22+1 -> 17 | B23: D-08.01.02. | C23: Krawężniki betonowe wystające o wymiarach 20x30 cm na podsypce cementowo-piaskowej | D23: m | E23: 606 | G23: =ROUND(E23*F23,2) -> 0
A24: =A23+1 -> 18 | B24: D-08.01.02. | C24: Krawężniki betonowe wtopione o wymiarach 20x22 cm na podsypce cementowo-piaskowej | D24: m | E24: 332 | G24: =ROUND(E24*F24,2) -> 0
A25: =A24+1 -> 19 | B25: D-08.03.01. | C25: Obrzeża betonowe o wymiarach 30x8 cm na podsypce piaskowej z wypełnieniem spoin zaprawą cementową | D25: m | E25: 443 | G25: =ROUND(E25*F25,2) -> 0
A26: =A25+1 -> 20 | B26: D-08.05.03. | C26: Ścieki uliczne z kostki kamiennej staroużytecznej 18x20na podsypce cementowo-piaskowej - 2 rzędy | D26: m | E26: 622 | G26: =ROUND(E26*F26,2) -> 0
A27: =A26+1 -> 21 | B27: D-08.05.03. | C27: Ścieki uliczne z kostki kamiennej staroużytecznej 18x20 na podsypce cementowo-piaskowej - 1 rząd | D27: m | E27: 223 | G27: =ROUND(E27*F27,2) -> 0
A28: =A27+1 -> 22 | B28: D-08.05.01. | C28: Ścieki z prefabrykatów betonowych 50x60 o grubości 15 cm na podsypce cementowo-piaskowej | D28: m | E28: 61 | G28: =ROUND(E28*F28,2) -> 0
B29: ROBOTY ZIEMNE
A30: =A28+1 -> 23 | B30: D-02.01.01. | C30: Wykopy z transportem urobku na składowisko Wykonawcy wraz z kosztem utylizacji | D30: m3 | E30: 24119.4 | G30: =ROUND(E30*F30,2) -> 0
A31: =A30+1 -> 24 | B31: D-02.01.01. | C31: Wykopy wykonywane na tymczasowy odkład | D31: m3 | E31: 6145 | G31: =ROUND(E31*F31,2) -> 0
A32: =A31+1 -> 25 | B32: D-02.03.01. | C32: Wykonanie nasypów z gruntu uzyskanego z tymczasowego odkładu | D32: m3 | E32: 320 | G32: =ROUND(E32*F32,2) -> 0
A33: =A32+1 -> 26 | B33: D-02.03.01. | C33: Wykonanie nasypów z gruntu uzyskanego z tymczasowego odkładu po doprowadzeniu materiału do parametrów gruntu nasypowego | D33: m3 | E33: 5325 | G33: =ROUND(E33*F33,2) -> 0
A34: =A33+1 -> 27 | B34: D-02.03.01. | C34: Wykonanie nasypów z gruntów z dowozu - nowy grunt wraz z kosztami jego pozyskania | D34: m3 | E34: 24580 | G34: =ROUND(E34*F34,2) -> 0
A35: =A34+1 -> 28 | B35: D-04.01.01. | C35: Mechaniczne profilowanie i zagęszczenie podłoża pod warstwy konstrukcyjne nawierzchni | D35: m2 | E35: 3662.98 | G35: =ROUND(E35*F35,2) -> 0
B36: ROBOTY NAWIERZCHNIOWE
A37: =A35+1 -> 29 | B37: D-04.04.02. | C37: Wykonanie i zagęszczenie mechanicze warstwy z mieszanki niezwiązanej o CBR>20% - grubość warstwy po zag. 22 cm | D37: m2 | E37: 817.4 | G37: =ROUND(E37*F37,2) -> 0
A38: =A37+1 -> 30 | B38: D-04.04.02. | C38: Wykonanie i zagęszczenie mechanicze warstwy warstwy z mieszanki niezwiązanej o CBR>20% - grubość warstwy po zag. 25 cm | D38: m2 | E38: 1317.54 | G38: =ROUND(E38*F38,2) -> 0
A39: =A38+1 -> 31 | B39: D-04.04.02. | C39: Podbudowa z kruszywa łamanego C90/3 - warstwa o grubości po zagęszczeniu 20 cm | D39: m2 | E39: 3948.3 | G39: =ROUND(E39*F39,2) -> 0
A40: =A39+1 -> 32 | B40: D-04.04.02. | C40: Podbudowa z kruszywa łamanego C90/3 - warstwa o grubości po zagęszczeniu 22 cm | D40: m2 | E40: 240.28 | G40: =ROUND(E40*F40,2) -> 0
A41: =A40+1 -> 33 | B41: D-04.02.01. | C41: Wykonanie i zagęszczenie mechanicze warstwy odsączającej - grubość warstwy po zag. 15 cm | D41: m2 | E41: 336.74 | G41: =ROUND(E41*F41,2) -> 0
...

Sheet 3a Przepust
A1: BUDOWA PRZEPUSTU WRAZ Z ZASTAWKĄ
A3: Lp. | B3: Nr STWiORB | C3: Opis | D3: jedn. | E3: ilość | F3: Cena jedn. | G3: Wartość
B4: ROZEBRANIE KONSTRUKCJI PRZEPUSTU
A5: 1 | B5: D-01.02.04. | C5: Rozbiórka stalowych elementów wyposażenia obiektu | D5: t | E5: 10 | G5: =ROUND(E5*F5,2) -> 0
A6: =A5+1 -> 2 | B6: D-01.04.02. | C6: Mechaniczne rozebranie konstrukcji żelbetowych | D6: m3 | E6: 124.35 | G6: =ROUND(E6*F6,2) -> 0
A7: =A6+1 -> 3 | B7: D-01.04.02. | C7: Wywiezienie samochodami samowyładowczymi gruzu z rozbieranych konstrukcji żwirobetonowych i żelbetowych na składowisko Wykonawcy | D7: m3 | E7: 124.35 | G7: =ROUND(E7*F7,2) -> 0
A8: =A7+1 -> 4 | B8: D-01.04.02. | C8: Składowanie i utylizacja | D8: m3 | E8: 124.35 | G8: =ROUND(E8*F8,2) -> 0
A9: =A8+1 -> 5 | B9: D-01.04.02. | C9: Transport złomu samochodem skrzyniowym z załadunkiem i wyładunkiem mechanicznym na składowisko ZDiUM | D9: t | E9: 10 | G9: =ROUND(E9*F9,2) -> 0
B10: FUNDAMENTY
A11: =A9+1 -> 6 | B11: D-02.01.01. | C11: Wykopy pod ławy | D11: m3 | E11: 720 | G11: =ROUND(E11*F11,2) -> 0
A12: =A11+1 -> 7 | B12: M-13.02.01. | C12: Wykonanie ław fundamentowych z betonu klasy C12/15 | D12: m3 | E12: 12.2 | G12: =ROUND(E12*F12,2) -> 0
A13: =A12+1 -> 8 | B13: M-13.01.00. | C13: Wykonanie ław fundamentowych z betonu zbrojonego klasy C25/30 | D13: m3 | E13: 29.8 | G13: =ROUND(E13*F13,2) -> 0
A14: =A13+1 -> 9 | B14: M-12.01.02. | C14: Montaż zbrojenia fundamenty - siatki zbrojeniowe 15x15 z prętów o śr. 10 mm | D14: t | E14: 0.59 | G14: =ROUND(E14*F14,2) -> 0
A15: =A14+1 -> 10 | B15: D-04.02.01. | C15: Wykonanie fundamentu z kruszywa | D15: m3 | E15: 6 | G15: =ROUND(E15*F15,2) -> 0
B16: KORPUSY PODPÓR I KONSTRUKCJE OPOROWE
A17: =A15+1 -> 11 | B17: M-13.01.01 | C17: Wykonanie ścian i części monolitycznych z betonu klasy C25/30 | D17: m3 | E17: 55.23 | G17: =ROUND(E17*F17,2) -> 0
A18: =A17+1 -> 12 | B18: M-12.01.02. | C18: Wykonanie i montaż zbrojenia | D18: t | E18: 9.29 | G18: =ROUND(E18*F18,2) -> 0
B19: USTROJE NOŚNE
A20: =A18+1 -> 13 | B20: D-03.01.01. | C20: Wykonanie typowego przepustu z elementów prefabrykowanych z betonu C35/45 | D20: m3 | E20: 42.09 | G20: =ROUND(E20*F20,2) -> 0
A21: =A20+1 -> 14 | B21: M-12.01.02. | C21: Wykonanie i montaż zbrojenia przepustów z elementów prefabrykowanych | D21: t | E21: 5.21 | G21: =ROUND(E21*F21,2) -> 0
A22: =A21+1 -> 15 | B22: M-13.01.00. | C22: Wykonanie płyty uciąglającej z betonu klasy C25/30 | D22: m3 | E22: 8.97 | G22: =ROUND(E22*F22,2) -> 0
A23: =A22+1 -> 16 | B23: M-12.01.02. | C23: Wykonanie i montaż zbrojenia płyty uciąglającej | D23: t | E23: 1.45 | G23: =ROUND(E23*F23,2) -> 0
B24: HYDROIZOLACJE
A25: =A23+1 -> 17 | B25: D-03.01.01. | C25: Wykonanie powłokowej izolacji bitumicznej układanej na zimno - I warstwa | D25: m2 | E25: 244.2 | G25: =ROUND(E25*F25,2) -> 0
A26: =A25+1 -> 18 | B26: D-03.01.01. | C26: Wykonanie powłokowej izolacji bitumicznej układanej na zimno - II warstwa | D26: m2 | E26: 244.2 | G26: =ROUND(E26*F26,2) -> 0
A27: =A26+1 -> 19 | B27: D-03.01.01. | C27: Wykonanie uszczelnienia przerwy dylatacyjnej | D27: m | E27: 20 | G27: =ROUND(E27*F27,2) -> 0
A28: =A27+1 -> 20 | B28: M-27.02.01. | C28: Wykonanie izolacji jednowarstwowej z papy termozgrzewalnej | D28: m2 | E28: 64.8 | G28: =ROUND(E28*F28,2) -> 0
B29: WYPOSAŻENIE
A30: =A28+1 -> 21 | B30: M-28.03.01. | C30: Montaż poręczy mostowych - odcinki proste | D30: t | E30: 0.33 | G30: =ROUND(E30*F30,2) -> 0
A31: =A30+1 -> 22 | B31: D-03.01.01. | C31: Instalacja zasuwy wrzecionowej ma wylocie przepustu | D31: kpl. | E31: 1 | G31: =ROUND(E31*F31,2) -> 0
A32: =A31+1 -> 23 | B32: M-29.10.01. | C32: Wykonanie schodów skarpowych dla obsługi | D32: m | E32: 11.95 | G32: =ROUND(E32*F32,2) -> 0
B33: ROBOTY PRZYOBIEKTOWE
A34: =A32+1 -> 24 | B34: D-02.03.01. | C34: Wykonanie zasypki obiektu | D34: m3 | E34: 825 | G34: =ROUND(E34*F34,2) -> 0
A35: =A34+1 -> 25 | B35: M-29.15.01. | C35: Wykonanie palisady z kołków śr. 7-9 cm o dł. 160 cm | D35: m | E35: 28.9 | G35: =ROUND(E35*F35,2) -> 0
A36: =A35+1 -> 26 | B36: M-29.15.01. | C36: Wykonanie umocnienia skarp brukiem z kostki kamiennej | D36: m2 | E36: 104.91 | G36: =ROUND(E36*F36,2) -> 0
A37: =A36+1 -> 27 | B37: M-13.01.00. | C37: Wykonanie opornika z betonu C25/30 | D37: m3 | E37: 3.72 | G37: =ROUND(E37*F37,2) -> 0
B38: ROBOTY NAWIERZCHNIOWE I ZABEZPIECZAJĄCE
A39: =A37+1 -> 28 | B39: D-03.01.01. | C39: Wykonanie impregnacji hydrofobowej powierzchni betonowych - dwukrotne | D39: m2 | E39: 254 | G39: =ROUND(E39*F39,2) -> 0
A40: RAZEM BUDOWA PRZEPUSTU WRAZ Z ZASTAWKĄ (NETTO): | G40: =SUM(G5:G39) -> 0

Sheet 3b Mur oporowy
A1: MUR OPOROWY
A3: Lp. | B3: Nr STWiORB | C3: Opis | D3: jedn. | E3: ilość | F3: Cena jedn. | G3: Wartość
A4: 1 | B4: M-22.10.05. | C4: Ława z kruszywa łamanego | D4: m3 | E4: 15 | G4: =ROUND(E4*F4,2) -> 0
A5: =A4+1 -> 2 | B5: M-22.10.05. | C5: Dostarczenie i montaż koszy gabionowych 100x50cm | D5: m | E5: 28 | G5: =ROUND(E5*F5,2) -> 0
A6: =A5+1 -> 3 | B6: M-22.10.05. | C6: Dostarczenie i montaż koszy gabionowych 100x100cm | D6: m | E6: 138 | G6: =ROUND(E6*F6,2) -> 0
A7: =A6+1 -> 4 | B7: M-22.10.05. | C7: Wypełnienie koszy gabionowych narzutem kamiennym | D7: m3 | E7: 152 | G7: =ROUND(E7*F7,2) -> 0
A8: RAZEM MUR OPOROWY (NETTO): | G8: =SUM(G4:G7) -> 0
C1048568: =SUM(C2:C1048567) -> 0

Sheet 4a Wycinka drzew
A1: WYCINKA DRZEW I KRZEWÓW
A3: Lp. | B3: Nr STWiORB | C3: Opis | D3: jedn. | E3: ilość | F3: Cena jedn. | G3: Wartość
A4: 1 | B4: 01.02.01 | C4: Mechaniczne ścinanie drzew z karczowaniem pni o średnicy 10-15 cm | D4: szt. | E4: 195 | G4: =ROUND(E4*F4,2) -> 0
A5: =A4+1 -> 2 | B5: 01.02.01 | C5: Mechaniczne ścinanie drzew z karczowaniem pni o średnicy 16-25 cm | D5: szt. | E5: 88 | G5: =ROUND(E5*F5,2) -> 0
A6: =A5+1 -> 3 | B6: 01.02.01 | C6: Mechaniczne ścinanie drzew z karczowaniem pni o średnicy 26-35 cm | D6: szt. | E6: 29 | G6: =ROUND(E6*F6,2) -> 0
A7: =A6+1 -> 4 | B7: 01.02.01 | C7: Mechaniczne ścinanie drzew z karczowaniem pni o średnicy 36-45 cm | D7: szt. | E7: 15 | G7: =ROUND(E7*F7,2) -> 0
A8: =A7+1 -> 5 | B8: 01.02.01 | C8: Mechaniczne ścinanie drzew z karczowaniem pni o średnicy 46-55 cm | D8: szt. | E8: 7 | G8: =ROUND(E8*F8,2) -> 0
A9: =A8+1 -> 6 | B9: 01.02.01 | C9: Mechaniczne ścinanie drzew z karczowaniem pni o średnicy 56-65 cm | D9: szt. | E9: 6 | G9: =ROUND(E9*F9,2) -> 0
A10: =A9+1 -> 7 | B10: 01.02.01 | C10: Mechaniczne ścinanie drzew z karczowaniem pni o średnicy 66-75 cm | D10: szt. | E10: 5 | G10: =ROUND(E10*F10,2) -> 0
A11: =A10+1 -> 8 | B11: 01.02.01 | C11: Mechaniczne ścinanie drzew z karczowaniem pni o średnicy powyżej 75 cm | D11: szt. | E11: 3 | G11: =ROUND(E11*F11,2) -> 0
A12: =A11+1 -> 9 | B12: 01.02.01 | C12: Mechaniczne karczowanie krzaków i podszyć średnich od 31% do 60% powierzchni. | D12: ha | E12: 0.2 | G12: =ROUND(E12*F12,2) -> 0
A13: =A12+1 -> 10 | B13: 01.02.01 | C13: Wywożenie gałęzi wraz z wywozem na składowisko wykonawcy i kosztem zagospodarowania odpadu | D13: mp | E13: 139.02 | G13: =ROUND(E13*F13,2) -> 0
A14: =A13+1 -> 11 | B14: 01.02.01 | C14: Wywożenie karpiny wraz z wywozem na składowisko wykonawcy i kosztem zagospodarowania odpadu | D14: mp | E14: 34.11 | G14: =ROUND(E14*F14,2) -> 0
A15: =A14+1 -> 12 | B15: 01.02.01 | C15: Zabezpieczenie drzew o śr. do 30 cm na okres wykonywania robót ziemnych | D15: szt. | E15: 76 | G15: =ROUND(E15*F15,2) -> 0
A16: =A15+1 -> 13 | B16: 01.02.01 | C16: Zabezpieczenie drzew o śr. ponad 30 cm na okres wykonywania robót ziemnych | D16: szt. | E16: 18 | G16: =ROUND(E16*F16,2) -> 0
A17: RAZEM WYCINKA DRZEW I KRZEWÓW (NETTO): | G17: =SUM(G4:G16) -> 0

Sheet 4b Nasadzenia zastepcze
A1: NASADZENIA ZASTĘPCZE
A3: Lp. | B3: Nr STWiORB | C3: Opis | D3: jedn. | E3: ilość | F3: Cena jedn. | G3: Wartość
A4: 1 | B4: D.09.01.01 | C4: Usunięcie warstwy ziemi urodzajnej (humusu) o grubości do 20cm | D4: m2 | E4: 6325 | G4: =ROUND(E4*F4,2) -> 0
A5: =A4+1 -> 2 | B5: D.01.02.01 | C5: Ścinanie drzew o średnicy 1-10 cm | D5: szt. | E5: 1 | G5: =ROUND(E5*F5,2) -> 0
A6: =A5+1 -> 3 | B6: D.01.02.01 | C6: Karczowanie krzaków i podszyć rzadkich od 10% do 30% powierzchni. | D6: m2 | E6: 13 | G6: =ROUND(E6*F6,2) -> 0
A7: =A6+1 -> 4 | B7: D.09.01.01 | C7: Orka glebogryzarką przyczepna kat.gruntu III | D7: m2 | E7: 6325 | G7: =ROUND(E7*F7,2) -> 0
A8: =A7+1 -> 5 | B8: D.09.01.01 | C8: Przygotowanie terenu pod obsadzenie krzewów w gruncie kat. III z wymianą gleby rodzimej warstwa ziemi o grubości 20 cm | D8: m2 | E8: 1671 | G8: =ROUND(E8*F8,2) -> 0
A9: =A8+1 -> 6 | B9: D.09.01.01 | C9: Wywiezienie darni i humusu z likwidowanych trawników | D9: m3 | E9: 1599.2 | G9: =ROUND(E9*F9,2) -> 0
A10: =A9+1 -> 7 | B10: D.09.01.01 | C10: Rozrzucenie torfu na terenie płaskim grub.warstwy 1 cm | D10: m2 | E10: 6325 | G10: =ROUND(E10*F10,2) -> 0
A11: =A10+1 -> 8 | B11: D.09.01.01 | C11: Humusowanie terenu pod trawnik przy grub.warstwy humusu 20 cm | D11: m2 | E11: 6325 | G11: =ROUND(E11*F11,2) -> 0
A12: =A11+1 -> 9 | B12: D.09.01.01 | C12: Sadzenie drzew i krzewów liściast.form naturalnych na terenie płaskim w gr.kat.III z całkowitą zaprawą dołów śr./głębok. 0.7 m - topola biała | D12: szt. | E12: 9 | G12: =ROUND(E12*F12,2) -> 0
A13: =A12+1 -> 10 | B13: D.09.01.01 | C13: Sadzenie drzew i krzewów liściast.form naturalnych na terenie płaskim w gr.kat.III z całkowitą zaprawą dołów śr./głębok. 0.7 m - morwa biała | D13: szt. | E13: 21 | G13: =ROUND(E13*F13,2) -> 0
A14: =A13+1 -> 11 | B14: D.09.01.01 | C14: Sadzenie drzew i krzewów liściast.form naturalnych na terenie płaskim w gr.kat.III z całkowitą zaprawą dołów śr./głębok. 0.7 m - Brzoza brodawkowata 'Fastigiata' | D14: szt. | E14: 62 | G14: =ROUND(E14*F14,2) -> 0
A15: =A14+1 -> 12 | B15: D.09.01.01 | C15: Sadzenie drzew i krzewów liściast.form naturalnych na terenie płaskim w gr.kat.III z całkowitą zaprawą dołów śr./głębok. 0.7 m - Klon polny 'Red Shine' | D15: szt. | E15: 31 | G15: =ROUND(E15*F15,2) -> 0
A16: =A15+1 -> 13 | B16: D.09.01.01 | C16: Sadzenie drzew i krzewów liściast.form naturalnych na terenie płaskim w gr.kat.III z całkowitą zaprawą dołów śr./głębok. 0.7 m - grusza drobnoowocowa 'Chanticleer' | D16: szt. | E16: 27 | G16: =ROUND(E16*F16,2) -> 0
... A34: =A33+1 -> 31 | B34: D.09.01.01 | C34: Pielęgnacja trawników parkowych | D34: m2 | E34: 5013 | G34: =ROUND(E34*F34,2) -> 0
A35: RAZEM NASADZENIA ZASTĘPCZE (NETTO): | G35: =SUM(G4:G34) -> 0

Sheet 5a Oswietlenie
A1: OŚWIETLENIE DROGOWE
A3: Lp. | B3: Nr STWiORB | C3: Opis | D3: jedn. | E3: ilość | F3: Cena jedn. | G3: Wartość
B4: Linie kablowe oświetleniowe
A5: 1 | B5: D-07.07.01. | C5: Kopanie rowów dla kabli w gruncie kat. IV | D5: m3 | E5: 35.42 | G5: =ROUND(E5*F5,2) -> 0
A6: =A5+1 -> 2 | B6: D-07.07.01. | C6: Nasypanie warstwy piasku na dnie rowu kablowego o szerokości do 0.4 m | D6: m | E6: 80.5 | G6: =ROUND(E6*F6,2) -> 0
A7: =A6+1 -> 3 | B7: D-07.07.01. | C7: Ułożenie rur osłonowych z PCW o śr.do 140 mm na skrzyżowaniu z innymi sieciami - ułożenie rur osłonowych typu SRS 110 | D7: m | E7: 161 | G7: =ROUND(E7*F7,2) -> 0
A8: =A7+1 -> 4 | B8: D-07.07.01. | C8: Układanie kabli o masie do 1.0 kg/m w rurach, pustakach lub kanałach zamkniętych - kabel ośw. NA2XY-J 4x35 | D8: m | E8: 80.5 | G8: =ROUND(E8*F8,2) -> 0
A9: =A8+1 -> 5 | B9: D-07.07.01. | C9: Przysypanie kabla warstwą piasku na dnie rowu kablowego o szerokości do 0.4 m | D9: m | E9: 80.5 | G9: =ROUND(E9*F9,2) -> 0
A10: =A9+1 -> 6 | B10: D-07.07.01. | C10: Zasypywanie rowów dla kabli wykonanych ręcznie w gruncie kat. IV | D10: m3 | E10: 28.98 | G10: =ROUND(E10*F10,2) -> 0
A11: =A10+1 -> 7 | B11: D-07.07.01. | C11: Załadunek i wywóz odpadów na składowisko Wykonawcy | D11: m3 | E11: 6.44 | G11: =ROUND(E11*F11,2) -> 0
A12: =A11+1 -> 8 | B12: D-07.07.01. | C12: Opłata za utylizację ziemi i gruzu z rozbieranych konstrukcji. | D12: m3 | E12: 6.44 | G12: =ROUND(E12*F12,2) -> 0
A13: =A12+1 -> 9 | B13: D-07.07.01. | C13: Kopanie rowów dla kabli w gruncie kat. IV | D13: m3 | E13: 106.2 | G13: =ROUND(E13*F13,2) -> 0
A14: =A13+1 -> 10 | B14: D-07.07.01. | C14: Nasypanie warstwy piasku na dnie rowu kablowego o szerokości do 0.4 m | D14: m | E14: 442.5 | G14: =ROUND(E14*F14,2) -> 0
A15: =A14+1 -> 11 | B15: D-07.07.01. | C15: Ułożenie rur osłonowych z PCW o śr.do 140 mm na skrzyżowaniu z innymi sieciami | D15: m | E15: 468.9 | G15: =ROUND(E15*F15,2) -> 0
A16: =A15+1 -> 12 | B16: D-07.07.01. | C16: Układanie kabli o masie do 1.0 kg/m w rurach, pustakach lub kanałach zamkniętych - kabel ośw. NA2XY-J 4x35 | D16: m | E16: 468.9 | G16: =ROUND(E16*F16,2) -> 0
A17: =A16+1 -> 13 | B17: D-07.07.01. | C17: Przysypanie kabla warstwą piasku na dnie rowu kablowego o szerokości do 0.4 m | D17: m | E17: 442.5 | G17: =ROUND(E17*F17,2) -> 0
... A27: =A26+1 -> 23 | B27: D-07.07.01. | C27: Układanie kabli o masie do 1.0 kg/m w fundamentach oraz słupach oświetleniowych - bednarka stalowa ocynkowana 25x4 | D27: m | E27: 48 | G27: =ROUND(E27*F27,2) -> 0
B28: Montaż latarń oświetleniowych
A29: =A27+1 -> 24 | B29: D-07.07.01. | C29: Montaż i stawianie słupów oświetleniowych o masie do 100 kg - słup oświetleniowy aluminiowy h=7m | D29: szt. | E29: 17 | G29: =ROUND(E29*F29,2) -> 0
A30: =A29+1 -> 25 | B30: D-07.07.01. | C30: Tablica bezpiecznikowa wnękowa - WINEL 2-obwodowa | D30: szt. | E30: 2 | G30: =ROUND(E30*F30,2) -> 0
A31: =A30+1 -> 26 | B31: D-07.07.01. | C31: Tablica bezpiecznikowa wnękowa - WINEL 1-obwodowa | D31: szt. | E31: 15 | G31: =ROUND(E31*F31,2) -> 0
A32: =A31+1 -> 27 | B32: D-07.07.01. | C32: Montaż wysięgników rurowych o masie do 15 kg na słupie - wysięgnik 2-ramienny o wys. 2x 1,5m dla słupa SAL-90M | D32: szt. | E32: 2 | G32: =ROUND(E32*F32,2) -> 0
A33: =A32+1 -> 28 | B33: D-07.07.01. | C33: Montaż wysięgników rurowych o masie do 15 kg na słupie - wysięgnik 1-ramienny o wys. 1m dla słupa SAL-90M | D33: szt. | E33: 3 | G33: =ROUND(E33*F33,2) -> 0
A34: =A33+1 -> 29 | B34: D-07.07.01. | C34: Montaż wysięgników rurowych o masie do 15 kg na słupie - wysięgnik 1-ramienny o wys. 1,5m dla słupa SAL-90M | D34: szt. | E34: 12 | G34: =ROUND(E34*F34,2) -> 0
A35: =A34+1 -> 30 | B35: D-07.07.01. | C35: Montaż przewodów do opraw oświetleniowych - wciąganie w słupy, rury osłonowe i wysięgniki przy wysokości latarń do 10 m - słupy oświetleniowe z wysięgnikami o wys. 1m | D35: kpl.przew. | E35: 3 | G35: =ROUND(E35*F35,2) -> 0
A36: =A35+1 -> 31 | B36: D-07.07.01. | C36: Montaż przewodów do opraw oświetleniowych - wciąganie w słupy, rury osłonowe i wysięgniki przy wysokości latarń do 10 m - słupy ośw. z wysięgnikami o wys. 1,5m | D36: kpl.przew. | E36: 12 | G36: =ROUND(E36*F36,2) -> 0
A37: =A36+1 -> 32 | B37: D-07.07.01. | C37: Montaż przewodów do opraw oświetleniowych - wciąganie w słupy, rury osłonowe i wysięgniki przy wysokości latarń do 10 m - słupy ośw. z wysięgnikami o wys. 2x 1,5m | D37: kpl.przew. | E37: 2 | G37: =ROUND(E37*F37,2) -> 0
A38: =A37+1 -> 33 | B38: D-07.07.01. | C38: Montaż opraw oświetlenia zewnętrznego na słupie - montaż opraw ośw. typu Schreder TECEO 1 36W | D38: szt. | E38: 2 | G38: =ROUND(E38*F38,2) -> 0
A39: =A38+1 -> 34 | B39: D-07.07.01. | C39: Montaż opraw oświetlenia zewnętrznego na słupie - montaż opraw ośw. typu Schreder TECEO 1 50W | D39: szt. | E39: 17 | G39: =ROUND(E39*F39,2) -> 0
A40: =A39+1 -> 35 | B40: D-07.07.01. | C40: Sprawdzenie i pomiar 1-fazowego obwodu elektrycznego niskiego napięcia | D40: pomiar | E40: 19 | G40: =ROUND(E40*F40,2) -> 0
A41: =A40+1 -> 36 | B41: D-07.07.01. | C41: Malowanie drzwi, drzwiczek i elementów pełnych o powierzchni ponad 0.5 m2 - malowanie słupów powłoką antyplakatową HLG System | D41: m2 | E41: 39.95 | G41: =ROUND(E41*F41,2) -> 0
A42: =A41+1 -> 37 | B42: D-07.07.01. | C42: Malowanie numerów latarni na słupie | D42: szt. | E42: 17 | G42: =E42*F42 -> 0
B43: Roboty inne
A44: =A42+1 -> 38 | B44: D-07.07.01. | C44: Dopuszczenie do pracy na sieci elektroenergetycznej oświetlenia drogowego ZDiUM Wrocław | D44: kpl. | E44: 1 | G44: =E44*F44 -> 0
A45: RAZEM OŚWIETLENIE DROGOWE (NETTO): | G45: =SUM(G44,G29:G42,G5:G27) -> 0

Sheet 5b nN i SN
A1: PRZEBUDOWA SIECI ELEKTROENERGETYCZNYCH NN I SN - TAURON Dystrybucja S.A.
A3: Lp. | B3: Nr STWiORB | C3: Opis | D3: jedn. | E3: ilość | F3: Cena jedn. | G3: Wartość
A4: 1 | B4: K-1746 20kV typ XRUHAKXs 3x1x120mm2 od stacji WRW3557 Potokowa 37 do stacji WRW2240 Potokowa r. Ślęzoujście
A5: 1 | B5: D-01.03.02. | C5: Roboty pomiarowe | D5: m | E5: 15 | G5: =ROUND(F5*E5,2) -> 0
A6: =A5+1 -> 2 | B6: D-01.03.02. | C6: Kopanie rowów dla kabli w sposób ręczny w gruncie kat. IV | D6: m3 | E6: 9.9 | G6: =ROUND(F6*E6,2) -> 0
A7: =A6+1 -> 3 | B7: D-01.03.02. | C7: Nasypanie warstwy piasku na dnie rowu kablowego o szerokości do 0.6 m | D7: m | E7: 15 | G7: =ROUND(F7*E7,2) -> 0
A8: =A7+1 -> 4 | B8: D-01.03.02. | C8: Ułożenie rur osłonowych z PCW o śr.do 140 mm - SRS fi 160mm | D8: m | E8: 15 | G8: =ROUND(F8*E8,2) -> 0
A9: =A8+1 -> 5 | B9: D-01.03.02. | C9: Ułożenie rur osłonowych z PCW o śr.do 140 mm - A160 PS | D9: m | E9: 15 | G9: =ROUND(F9*E9,2) -> 0
A10: =A9+1 -> 6 | B10: D-01.03.02. | C10: Przełożenie istniejącego kabla o masie do 3.0 kg/m w rurach, pustakach lub kanałach zamkniętych | D10: m | E10: 45 | G10: =ROUND(F10*E10,2) -> 0
A11: =A10+1 -> 7 | B11: D-01.03.02. | C11: Badanie linii kablowej S.N. | D11: odc. | E11: 3 | G11: =ROUND(F11*E11,2) -> 0
A12: =A11+1 -> 8 | B12: D-01.03.02. | C12: Przysypanie kabla warstwą piasku na dnie rowu kablowego o szerokości do 0.6 m | D12: m | E12: 15 | G12: =ROUND(F12*E12,2) -> 0
A13: =A12+1 -> 9 | B13: D-01.03.02. | C13: Zasypywanie rowów dla kabli wykonanych ręcznie w gruncie kat. IV | D13: m3 | E13: 8.1 | G13: =ROUND(F13*E13,2) -> 0
A14: =A13+1 -> 10 | B14: D-01.03.02. | C14: Załadunek i wywóz odpadów na składowisko wykonawcy | D14: m3 | E14: 1.8 | G14: =ROUND(F14*E14,2) -> 0
A15: =A14+1 -> 11 | B15: D-01.03.02. | C15: Opłata za utylizację ziemi i gruzu z rozbieranych konstrukcji | D15: t | E15: 3.24 | G15: =ROUND(F15*E15,2) -> 0
A16: 2 | B16: Kabel nN typu YAKY 4x240mm2 zasilany ze stacji nr WRW2240 Potokowa r. Ślęzoujście relacji: od złącza ZK3b Potokowa 55 nr ZK-WRW123311 do złącza ZK3a ul. Potokowa 48 nr ZK-WRW123309
A17: =A15+1 -> 12 | B17: D-01.03.02. | C17: Roboty pomiarowe | D17: m | E17: 39 | G17: =ROUND(F17*E17,2) -> 0
A18: =A17+1 -> 13 | B18: D-01.03.02. | C18: Kopanie rowów dla kabli w gruncie kat. IV | D18: m3 | E18: 12.48 | G18: =ROUND(F18*E18,2) -> 0
A19: =A18+1 -> 14 | B19: D-01.03.02. | C19: Nasypanie warstwy piasku na dnie rowu kablowego o szerokości do 0.4 m | D19: m | E19: 39 | G19: =ROUND(F19*E19,2) -> 0
A20: =A19+1 -> 15 | B20: D-01.03.02. | C20: Układanie kabli o masie do 2.0 kg/m w rowach kablowych ręcznie - NA2XY-J 4x240mm2 SM 0,6/1kV | D20: m | E20: 39 | G20: =ROUND(F20*E20,2) -> 0
A21: =A20+1 -> 16 | B21: D-01.03.02. | C21: Montaż w rowach muf przelotowych z rur termokurczliwych na kablach wielożyłowych z żyłami Al o przekroju do 240 mm2 na nap.do 1 kV o izolacji i powłoce z tworzyw sztucznych - | D21: szt. | E21: 2 | G21: =ROUND(F21*E21,2) -> 0
A22: =A21+1 -> 17 | B22: D-01.03.02. | C22: Badanie linii kablowej N.N.- kabel 4-żyłowy | D22: odc. | E22: 1 | G22: =ROUND(F22*E22,2) -> 0
A23: =A22+1 -> 18 | B23: D-01.03.02. | C23: Przysypanie kabla warstwą piasku na dnie rowu kablowego o szerokości do 0.4 m | D23: m | E23: 39 | G23: =ROUND(F23*E23,2) -> 0
A24: =A23+1 -> 19 | B24: D-01.03.02. | C24: Zasypywanie rowów dla kabli w gruncie kat. IV | D24: m3 | E24: 9.36 | G24: =ROUND(F24*E24,2) -> 0
A25: =A24+1 -> 20 | B25: D-01.03.02. | C25: Załadunek i wywóz odpadów na składowisko wykonawcy | D25: m3 | E25: 3.12 | G25: =ROUND(F25*E25,2) -> 0
A26: =A25+1 -> 21 | B26: D-01.03.02. | C26: Opłata za utylizację ziemi i gruzu z rozbieranych konstrukcji | D26: t | E26: 5.62 | G26: =ROUND(F26*E26,2) -> 0
A27: =A26+1 -> 22 | B27: D-01.03.02. | C27: Demontaż kabli wielożyłowych o masie do 2.0 kg/m układanych w gruncie kat. III-IV | D27: m | E27: 39 | G27: =ROUND(F27*E27,2) -> 0
A28: =A27+1 -> 23 | B28: D-01.03.02. | C28: Transport przewodów,izolatorów,osprzętu i drewna na składowisko wykonawcy wraz z kosztem zagospodarowania odpadów | D28: t | E28: 0.14 | G28: =ROUND(F28*E28,2) -> 0
A29: 3 | B29: Kabel nN typu YAKY 4x35mm2 zasilany ze stacji nr WRW3468 Rędzińska 68 dom Starców: od słupa nN nr ZK-WRW193057 do złącza ZK1a ul. Ślęzoujście 14 nr ZK-WRW106058
A30: =A28+1 -> 24 | B30: D-01.03.02. | C30: Roboty pomiarowe | D30: m | E30: 5.5 | G30: =ROUND(F30*E30,2) -> 0
A31: =A30+1 -> 25 | B31: D-01.03.02. | C31: Kopanie rowów dla kabli w gruncie kat. IV | D31: m3 | E31: 2.42 | G31: =ROUND(F31*E31,2) -> 0
A32: =A31+1 -> 26 | B32: D-01.03.02. | C32: Nasypanie warstwy piasku na dnie rowu kablowego o szerokości do 0.4 m | D32: m | E32: 5.5 | G32: =ROUND(F32*E32,2) -> 0
A33: =A32+1 -> 27 | B33: D-01.03.02. | C33: Ułożenie rur osłonowych z PCW o śr.do 140 mm - SRS fi 110mm | D33: m | E33: 5.5 | G33: =ROUND(F33*E33,2) -> 0
A34: =A33+1 -> 28 | B34: D-01.03.02. | C34: Ułożenie rur osłonowych z PCW o śr.do 140 mm - A 110 PS | D34: m | E34: 5.5 | G34: =ROUND(F34*E34,2) -> 0
A35: =A34+1 -> 29 | B35: D-01.03.02. | C35: Przełożenie istniejącego kabla o masie do 3.0 kg/m w rurach, pustakach lub kanałach zamkniętych | D35: m | E35: 5.5 | G35: =ROUND(F35*E35,2) -> 0
A36: =A35+1 -> 30 | B36: D-01.03.02. | C36: Badanie linii kablowej N.N.- kabel 4-żyłowy | D36: odc. | E36: 1 | G36: =ROUND(F36*E36,2) -> 0
A37: =A36+1 -> 31 | B37: D-01.03.02. | C37: Przysypanie kabla warstwą piasku na dnie rowu kablowego o szerokości do 0.4 m | D37: m | E37: 5.5 | G37: =ROUND(F37*E37,2) -> 0
A38: =A37+1 -> 32 | B38: D-01.03.02. | C38: Zasypywanie rowów dla kabli wykonanych ręcznie w gruncie kat. IV | D38: m3 | E38: 1.98 | G38: =ROUND(F38*E38,2) -> 0
A39: =A38+1 -> 33 | B39: D-01.03.02. | C39: Załadunek i wywóz odpadów na składowisko wykonawcy | D39: m3 | E39: 0.44 | G39: =ROUND(F39*E39,2) -> 0
A40: =A39+1 -> 34 | B40: D-01.03.02. | C40: Opłata za utylizację ziemi i gruzu z rozbieranych konstrukcji. | D40: t | E40: 0.79 | G40: =ROUND(F40*E40,2) -> 0
A41: =A40+1 -> 35 | B41: D-01.03.02. | C41: Dopuszczenie do pracy na sieci elektroenergetycznej TAURON Dystrybucja S.A. | D41: kpl. | E41: 3 | G41: =ROUND(F41*E41,2) -> 0
...

Sheet 6 Wod_kan
A1: PRZEBUDOWA I BUDOWA SIECI WOD-KAN
A3: Lp. | B3: Nr STWiORB | C3: Opis | D3: jedn. | E3: ilość | F3: Cena jedn. | G3: Wartość
B4: 1 | C4: KANALIZACJA DESZCZOWA
B5: 1.1 | C5: Roboty ziemne
A6: 1 | B6: D-03.02.03 | C6: Roboty ziemne dla kanalizacji deszczowej z tymczasowym zabezpieczeniem ścian, z wykonaniem podsypki grub. 15 cm, obsypki do wysok. 30 cm ponad rurę i zasypki do poziomu -0,20 cm poniżej konstrukcji nawierzchni z piasku średnio lub gruboziarnistego, usunięcie nadmiaru i gruntu nieprzydatnego, z opłatami | D6: m3 | E6: 615.9 | G6: =ROUND(E6*F6,2) -> 0
A7: =A6+1 -> 2 | B7: D-03.02.03 | C7: Roboty ziemne dla kanalizacji deszczowej bez zabezpieczenia ścian, z przemieszczeniem na odkład tymczasowy i z powrotem do wbudowania, z wykonaniem podsypki grub. 15 cm, obsypki do wysok. 30 cm ponad rurę i zasypki do poziomu -0,20 cm poniżej konstrukcji nawierzchni z piasku średnio lub gruboziarnistego, usunięcie nadmiaru gruntu, z opłatami | D7: m3 | E7: 267.2 | G7: =ROUND(E7*F7,2) -> 0
A8: =A7+1 -> 3 | B8: D-03.02.03 | C8: Dodatkowe zagęszczenie zasypek pod nawierzchniami do wskaźnika Js=1,00 | D8: m3 | E8: 74.3 | G8: =ROUND(E8*F8,2) -> 0
A9: =A8+1 -> 4 | B9: D-03.02.03 | C9: Dodatkowe zagęszczenie obsypek rur do wskaźnika Js=0,97 | D9: m3 | E9: 724.1 | G9: =ROUND(E9*F9,2) -> 0
A10: =A9+1 -> 5 | B10: D-03.02.03 | C10: Montaż i demontaż tymczasowego podwieszenia istniejących kabli z zastosowaniem osłony dzielonej Dn 100 mm | D10: szt | E10: 2 | G10: =ROUND(E10*F10,2) -> 0
A11: =A10+1 -> 6 | B11: D-03.02.03 | C11: Montaż i demontaz podwieszenia rurociągów | D11: szt | E11: 5 | G11: =ROUND(E11*F11,2) -> 0
B12: 1.2 | C12: Roboty demontażowe
A13: =A11+1 -> 7 | B13: D-03.02.03 | C13: Rozbiórka studzienek deszczowych z wpustami ulicznymi, z wywiezieniem odpadów i opłatami. Wpusty do przekazania do ZDiUM | D13: kpl. | E13: 1 | G13: =ROUND(E13*F13,2) -> 0
A14: =A13+1 -> 8 | B14: D-03.02.03 | C14: Likwidacja przykanalików przez rozbiórkę w gotowym wykopie, z wywiezieniem odpadów i opłatami | D14: m | E14: 0.5 | G14: =ROUND(E14*F14,2) -> 0
A15: =A14+1 -> 9 | B15: D-03.02.03 | C15: Zaślepienie przykanalika na wlocie do kanału | D15: szt. | E15: 1 | G15: =ROUND(E15*F15,2) -> 0
B16: 1.3 | C16: Roboty kanałowe
A17: =A15+1 -> 10 | B17: D-03.02.03 | C17: Studnie z kręgów D1000 mm z betonu C35/45, w przedziale wys. 1,6< h <= 2,0 m, h= 1,64 m (od wierzchu włazu do dna), łączonych na uszczelki, z kinetą, zwieńczeniem włazem żeliwnym kl. D400 z pokrywą z wypełn. betonowym na zwężce i betonowych pierścieniach dystansowych, ze złączkami w przejściach przez ściany dla rur dwuściennych Dn 250 i 300 mm i PVC 160 mm, w gotowych wykopach, z wykonaniem podłoża betonowego C16/20 grub. 15 cm | D17: szt. | E17: 4 | G17: =ROUND(E17*F17,2) -> 0
A18: =A17+1 -> 11 | B18: D-03.02.03 | C18: Studnie z kręgów D1000 mm z betonu C35/45, w przedziale wys. 2,0< h <= 2,5 m, h= 2,18 m (od wierzchu włazu do dna), łączonych na uszczelki, z kinetą, zwieńczeniem włazem żeliwnym kl. D400 z pokrywą z wypełn. betonowym na zwężce i betonowych pierścieniach dystansowych, ze złączkami w przejściach przez ściany dla rur dwuściennych Dn 300 mm i PVC 160 mm, w gotowych wykopach, z wykonaniem podłoża betonowego C16/20 grub. 15 cm | D18: szt. | E18: 2 | G18: =ROUND(E18*F18,2) -> 0
A19: =A18+1 -> 12 | B19: D-03.02.03 | C19: Studnie z kręgów D1000 mm z betonu C35/45, w przedziale wys. 2,5< h <= 3,0 m, h= 2,75 m (od wierzchu włazu do dna), łączonych na uszczelki, z kinetą, zwieńczeniem włazem żeliwnym kl. D400 z pokrywą z wypełn. betonowym na zwężce i betonowych pierścieniach dystansowych, ze złączkami w przejściach przez ściany dla rur dwuściennych Dn 300 mm i PVC 160 mm, w gotowych wykopach, z wykonaniem podłoża betonowego C16/20 grub. 15 cm | D19: szt. | E19: 4 | G19: =ROUND(E19*F19,2) -> 0
A20: =A19+1 -> 13 | B20: D-03.02.03 | C20: Studnie z kręgów D1000 mm z betonu C35/45, w przedziale wys. 3,0< h <= 3,5 m, h= 3,25 m (od wierzchu włazu do dna), łączonych na uszczelki, z kinetą, zwieńczeniem włazem żeliwnym kl. D400 z pokrywą z wypełn. betonowym na zwężce i betonowych pierścieniach dystansowych, ze złączkami w przejściach przez ściany dla rur dwuściennych Dn 300 mm i PVC 160 mm, w gotowych wykopach, z wykonaniem podłoża betonowego C16/20 grub. 15 cm | D20: szt. | E20: 3 | G20: =ROUND(E20*F20,2) -> 0
A21: =A20+1 -> 14 | B21: D-03.02.03 | C21: Studnie z kręgów D1000 mm z betonu C35/45, w przedziale wys. 3,5< h <= 4,0 m, h= 3,53 m (od wierzchu włazu do dna), łączonych na uszczelki, z kinetą, zwieńczeniem włazem żeliwnym kl. D400 z pokrywą z wypełn. betonowym na zwężce i betonowych pierścieniach dystansowych, ze złączkami w przejściach przez ściany dla rur dwuściennych Dn 300 mm i PVC 160 mm, w gotowych wykopach, z wykonaniem podłoża betonowego C16/20 grub. 15 cm | D21: szt. | E21: 1 | G21: =ROUND(E21*F21,2) -> 0
A22: =A21+1 -> 15 | B22: D-03.02.03 | C22: Studnie z kręgów D1000 mm z betonu C35/45, w przedziale wys. 5,0< h <= 6,5 m, h= 5,46 m (od wierzchu włazu do dna), łączonych na uszczelki, z kinetą, zwieńczeniem włazem żeliwnym kl. D400 z pokrywą z wypełn. betonowym na zwężce i betonowych pierścieniach dystansowych, ze złączkami w przejściach przez ściany dla rur dwuściennych Dn 300 mm, w gotowych wykopach, z wykonaniem podłoża betonowego C16/20 grub. 15 cm | D22: szt. | E22: 1 | G22: =ROUND(E22*F22,2) -> 0
A23: =A22+1 -> 16 | B23: D-03.02.03 | C23: Kaskada z kształtek do rur kanalizacyjnych z tworzyw, dwuściennych, o wysok. 1,84 m kształtki kanalizacyjne z rur dwuściennych PP SN8 d 300 mm, (trójnik 90st. d 300/200 mm i króciec d 300 mm oraz kolano 90st. i króćce d 200 mm), z obetonowaniem z C20/25 na podłożu z betonu C8/10 o grub. 10 cm | D23: szt. | E23: 1 | G23: =ROUND(E23*F23,2) -> 0
A24: =A23+1 -> 17 | B24: D-03.02.03 | C24: Osadnik z kręgów D1500 mm z betonu C35/45, o wys. h= 4,37 m (od wierzchu włazu do dna), łączonych na uszczelki, z dnem płaskim, zwieńczeniem włazem żeliwnym kl. D400 z pokrywą z wypełn. betonowym na płycie pokrywowej i betonowych pierścieniach dystansowych, z króćcamii z rur gładkościennych d315 mm w przejściach przez ściany i kształtkami niezbędnymi do połączenia z rurami dwuściennymi, oraz deflektorem ze stali nierdz. 1.4301 lub alu, w gotowm wykopie, z wykonaniem podłoża betonowego C12/15 grub. 10 cm | D24: szt. | E24: 1 | G24: =ROUND(E24*F24,2) -> 0
A25: =A24+1 -> 18 | B25: D-03.02.03 | C25: Wylot dla rurociągu z PP d300 mm o konstrukcji z betonu C30/37, W8, F150, nasiąkliwość mniej niz 5%. na zagęszczonej podsypce żwirowej o grub. 30 cm | D25: kpl. | E25: 1 | G25: =ROUND(E25*F25,2) -> 0
A26: =A25+1 -> 19 | B26: D-03.02.03 | C26: Dostawa i montaż klapy zwrotnej z HDPE DN 300 mm z mocowaniem do konstrukcji wylotu za pomocą kotew | D26: kpl. | E26: 1 | G26: =ROUND(E26*F26,2) -> 0
A27: =A26+1 -> 20 | B27: D-03.02.03 | C27: Rurociagi kanalizacji grawitacyjnej z rur z tworzyw kl. SN8, d300 mm, z kształtkami, z wykonaniem połączeń, próbami szczelności, hydrodynamicznym czyszczeniem i kontrolą | D27: m | E27: 493.5 | G27: =ROUND(E27*F27,2) -> 0
A28: =A27+1 -> 21 | B28: D-03.02.03 | C28: Rurociagi kanalizacji grawitacyjnej z rur z tworzyw kl. SN8, d250 mm, z kształtkami, z wykonaniem połączeń, próbami szczelności, hydrodynamicznym czyszczeniem i kontrolą | D28: m | E28: 26 | G28: =ROUND(E28*F28,2) -> 0
A29: =A28+1 -> 22 | B29: D-03.02.03 | C29: Studzienki deszczowe z kręgów prefabrykowanych D500 mm, z osadnikiem i wpustem żel. krawężnikowym kl. C250 z rusztem uchylnym 400x600 mm i koszem osadczym, z przejściem szczel. dla rury PVC d160 mm | D29: szt. | E29: 8 | G29: =ROUND(E29*F29,2) -> 0
... A34: =A33+1 -> 27 | B34: D-03.02.03 | C34: Przykanaliki z rur gładkich PVC-U ze ścianką litą kl, SN8, SDR34, d160 mm, z kształtkami, z wykonaniem połączeń, próbami szczelności, hydrodynamicznym czyszczeniem i kontrolą | D34: m | E34: 75.1 | G34: =ROUND(E34*F34,2) -> 0
B35: 1.4 | C35: Regulacja włazów istniejących studni kanalizacyjnych
A36: =A34+1 -> 28 | B36: D-03.02.03 | C36: Regulacja włazu studni kanalizacyjnej | D36: szt. | E36: 1 | G36: =ROUND(E36*F36,2) -> 0
A37: =A36+1 -> 29 | B37: D-03.02.03 | C37: Regulacja włazów studni kanalizacyjnych, z obniżeniem o 5-6 cm, bez wymiany włazu | D37: kpl. | E37: 2 | G37: =ROUND(E37*F37,2) -> 0
A38: =A37+1 -> 30 | B38: D-03.02.03 | C38: Regulacja włazów studni kanalizacyjnych, z obniżeniem o 9 cm, bez wymiany włazu | D38: kpl. | E38: 1 | G38: =ROUND(E38*F38,2) -> 0
A39: =A38+1 -> 31 | B39: D-03.02.03 | C39: Regulacja włazów studni kanalizacyjnych, z obniżeniem o 9 cm, z wymianą włazu | D39: kpl. | E39: 1 | G39: =ROUND(E39*F39,2) -> 0
A40: RAZEM KANALIZACJA DESZCZOWA | G40: =SUM(G6:G39) -> 0
B41: 2 | C41: PRZEBUDOWA SIECI WODOCIĄGOWEJ
B42: 2.1 | C42: Roboty ziemne
A43: =A39+1 -> 32 | B43: D-01.03.05 | C43: Roboty ziemne dla sieci wodociagowej, z wykonaniem podsypki o grub. 15 cm i obsypki do wysok. 30 cm ponad wierzch rur z piasku średnio lub gruboziarnistego, zagęszczonych do Is= 0,97 zasypki ostatnich 20 cm gruntem sypkim, zagęszczoym do Is= 1,00, wywóz gruntu nieprzydatnego z opłatami | D43: m3 | E43: 81.2 | G43: =ROUND(E43*F43,2) -> 0
A44: =A43+1 -> 33 | B44: D-01.03.05 | C44: Dodatkowe zagęszczenie obsypek rur do wskaźnika Js=0,97 | D44: m3 | E44: 67 | G44: =ROUND(E44*F44,2) -> 0
A45: =A44+1 -> 34 | B45: D-01.03.05 | C45: Dodatkowe zagęszczenie zasypek pod drogami do wskaźnika Js=1,00 | D45: m3 | E45: 11.9 | G45: =ROUND(E45*F45,2) -> 0
...

Sheet 7a MKT
A1: BUDOWA SIECI MIEJSKICH KANAŁÓW TECHNOLOGICZNYCH - MKT
A3: Lp. | B3: Nr STWiORB | C3: Opis | D3: jedn. | E3: ilość | F3: Cena jedn. | G3: Wartość
A4: 1 | B4: D-01.03.04B | C4: Budowa kanalizacji kablowej pierwotnej z rur RHDPEk 110 w wykopie wykonanym mechanicznie w gruncie kat. III o liczbie warstw 1; liczbie rur 2; liczbie otworów 2 | D4: m | E4: 499 | G4: =ROUND(E4*F4,2) -> 0
A5: =A4+1 -> 2 | B5: D-01.03.04B | C5: Mechaniczne wciąganie rur kanalizacji wtórnej w otwór wolny - rury 1xHDPE40/3,7 +1xDI7x10/1,0 - analogia | D5: m | E5: 499 | G5: =ROUND(E5*F5,2) -> 0
A6: =A5+1 -> 3 | B6: D-01.03.04B | C6: Budowa kanalizacji kablowej pierwotnej z rur RHDPEk 110 w wykopie wykonanym mechanicznie w gruncie kat. III o liczbie warstw 1; liczbie rur 2; liczbie otworów 2 - odgałęzienia od ciągu głównego bez rur wtórnych | D6: m | E6: 120 | G6: =ROUND(E6*F6,2) -> 0
A7: =A6+1 -> 4 | B7: D-01.03.04B | C7: Budowa studni kablowych prefabrykowanych rozdzielczych SKO-2g w gruncie kategorii III - analogia | D7: szt. | E7: 1 | G7: =ROUND(E7*F7,2) -> 0
A8: =A7+1 -> 5 | B8: D-01.03.04B | C8: Budowa studni kablowych prefabrykowanych rozdzielczych SKR-1 w gruncie kategorii III | D8: szt. | E8: 10 | G8: =ROUND(E8*F8,2) -> 0
A9: =A8+1 -> 6 | B9: D-01.03.04B | C9: Montaż ele. mechanicznej ochrony przed ingerencją osób nieuprawnionych w istniejących studniach kablowych montaż pokryw dodatkowych z listwami, rama ciężka lub podwójna lekka | D9: szt. | E9: 11 | G9: =ROUND(E9*F9,2) -> 0
A10: RAZEM SIEĆ MIEJSKICH KANAŁÓW TECHNOLOGICZNYCH - MKT (NETTO): | G10: =SUM(G4:G9) -> 0

Sheet 7b Kolizje teletechniczne
A1: PRZEBUDOWA I ZABEZPIECZENIE SIECI ORANGE POLSKA S.A. I TELKOL SP Z O.O.
A3: Lp. | B3: Nr STWiORB | C3: Opis | D3: jedn. | E3: ilość | F3: Cena jedn. | G3: Wartość
B4: 1 | C4: Sieć Orange Polska S.A.
A5: 1 | B5: D-01.03.04A | C5: Regulacja ramy i pokrywy | D5: szt. | E5: 1 | G5: =ROUND(F5*E5,2) -> 0
A6: =A5+1 -> 2 | B6: D-01.03.04A | C6: Przesunięcie przyłacza HDPE 40 o liczbie warstw 1; liczbie rur 1; liczbie otworów 1w wykopie rozkorytowanym | D6: m | E6: 0.5 | G6: =ROUND(F6*E6,2) -> 0
A7: =A6+1 -> 3 | B7: D-01.03.04A | C7: Przesunięcie kanalizacji kablowej pierwotnej o liczbie warstw 1; liczbie rur 1; liczbie otworów 1w wykopie rozkorytowanym | D7: m | E7: 48 | G7: =ROUND(F7*E7,2) -> 0
A8: =A7+1 -> 4 | B8: D-01.03.04A | C8: Przesunięcie kanalizacji kablowej pierwotnej o liczbie warstw 1; liczbie rur 2; liczbie otworów 2 w wykopie rozkorytowanym | D8: m | E8: 1 | G8: =ROUND(F8*E8,2) -> 0
A9: =A8+1 -> 5 | B9: D-01.03.04A | C9: Zabezpieczenie przyłacza kablowego HDPE rurami dzielonymi fi 120 o liczbie warstw 1; liczbie rur 1; liczbie otworów 1 | D9: m | E9: 1 | G9: =ROUND(F9*E9,2) -> 0
A10: =A9+1 -> 6 | B10: D-01.03.04A | C10: Zabezpieczenie i/lub wydłużenie kanalizacji kablowej pierwotnej z rur z tworzyw sztucznych rurami dzielonymi fi 160 o liczbie warstw 1; liczbie rur 1; liczbie otworów 1 | D10: m | E10: 21 | G10: =ROUND(F10*E10,2) -> 0
A11: =A10+1 -> 7 | B11: D-01.03.04A | C11: Uszczelnienie otworów kanalizacji pierwotnej uszczelkami z pianką poliuretanową - otwór częsciowo wypełniony - analogia | D11: otw. | E11: 14 | G11: =ROUND(F11*E11,2) -> 0
A12: =A11+1 -> 8 | B12: D-01.03.04A | C12: Budowa studni kablowych rozdzielczych SKR studni 2-elementowa | D12: szt. | E12: 5 | G12: =ROUND(F12*E12,2) -> 0
A13: =A12+1 -> 9 | B13: D-01.03.04A | C13: Montaż ele. mechanicznej ochrony przed ingerencją osób nieuprawnionych w istniejących studniach kablowych montaż pokryw dodatkowych z listwami, rama ciężka lub podwójna lekka | D13: szt. | E13: 5 | G13: =ROUND(F13*E13,2) -> 0
A14: =A13+1 -> 10 | B14: D-01.03.04A | C14: Mechaniczna rozbiórka studni kablowych przy przebudowie - analogia | D14: szt. | E14: 5 | G14: =ROUND(F14*E14,2) -> 0
A15: =A14+1 -> 11 | B15: D-01.03.04A | C15: Budowa rurociągu na głębokości 1 m w wykopie wykonanym koparkami łańcuchowymi w gruncie kat. III-IV - rury na bębnach - 1 rura HDPE 40 mm w rurociągu | D15: m | E15: 16 | G15: =ROUND(F15*E15,2) -> 0
A16: =A15+1 -> 12 | B16: D-01.03.04A | C16: Budowa obiektów ochronnych z rur RHDPEp 110/6,3 o liczbie warstw 1; liczbie rur 1; liczbie otworów 1 | D16: m | E16: 12 | G16: =ROUND(F16*E16,2) -> 0
A17: =A16+1 -> 13 | B17: D-01.03.04A | C17: Ręczne wciąganie rur kanalizacji wtórnej w otwór wolny - rury śr. 40 mm w zwojach (1 szt.) | D17: m | E17: 12 | G17: =ROUND(F17*E17,2) -> 0
... A25: =A24+1 -> 21 | B25: D-01.03.04A | C25: Pomiary tłumienności skutecznej przy jednej częstotliwości kabla o 30 parach | D25: odc. | E25: 2 | G25: =ROUND(F25*E25,2) -> 0
B26: 2 | C26: Sieć TELKOL Sp. z o.o.
A27: =A25+1 -> 22 | B27: D-01.03.04A | C27: Montaż i tymczasowe ustawienie słupów drewnianych pojedynczych o dł. 7 m ze szczudłem żelbetowym, wypustem kablowym RHDPE-UV 32 i osprzętem do podiweszania kabli - grunt kat. III - analogia | D27: szt. | E27: 2 | G27: =ROUND(F27*E27,2) -> 0
A28: =A27+1 -> 23 | B28: D-01.03.04A | C28: Wprowadzenie tymczasowe na słup żelbetowy kabla w rurze ochronnej | D28: m | E28: 14 | G28: =ROUND(F28*E28,2) -> 0
A29: =A28+1 -> 24 | B29: D-01.03.04A | C29: Przewieszenie tymczasowe kabla napowietrznego samonośnego XTKMXn o śr. 50 mm - analogia | D29: m | E29: 5 | G29: =ROUND(F29*E29,2) -> 0
A30: =A29+1 -> 25 | B30: D-01.03.04A | C30: Sprowadzenie z słupa kablowego kabla o śr. 50 mm w rurze ochronnej - analogia | D30: m | E30: 14 | G30: =ROUND(F30*E30,2) -> 0
A31: =A30+1 -> 26 | B31: D-01.03.04A | C31: Demontaż słupa istniejącego drewnianego 7m - analogia | D31: szt. | E31: 2 | G31: =ROUND(F31*E31,2) -> 0
A32: =A31+1 -> 27 | B32: D-01.03.04A | C32: Zestawienie kabli: XzTKMXpeFtlx 25x4x0,8 20m | D32: kpl. | E32: 1 | G32: =ROUND(F32*E32,2) -> 0
A33: =A32+1 -> 28 | B33: D-01.03.04A | C33: Montaż złączy równoległych kabli wypełnionych ułożonych w kanalizacji kablowej z zastosowaniem pojedynczych łączników żył i termokurczliwych osłon wzmocnionych na kablu o 50 parach | D33: złącz. | E33: 2 | G33: =ROUND(F33*E33,2) -> 0
A34: =A33+1 -> 29 | B34: D-01.03.04A | C34: Pomiary końcowe prądem stałym kabla o 50 parach | D34: odc. | E34: 1 | G34: =ROUND(F34*E34,2) -> 0
A35: =A34+1 -> 30 | B35: D-01.03.04A | C35: Pomiary tłumienności skutecznej przy jednej częstotliwości kabla o 50 parach | D35: odc. | E35: 1 | G35: =ROUND(F35*E35,2) -> 0
A36: =A35+1 -> 31 | B36: D-01.03.04A | C36: Pomiary tłumienności zbliżno- i zdalnoprzenikowej przy jednej częstotliwości kabla o 50 parach | D36: odc. | E36: 1 | G36: =ROUND(F36*E36,2) -> 0
A37: =A36+1 -> 32 | B37: D-01.03.04A | C37: Zabezpieczenie kabla ziemnego rurami dzielonymi fi 120 o liczbie warstw 1; liczbie rur 1; liczbie otworów 1 | D37: m | E37: 22 | G37: =ROUND(F37*E37,2) -> 0
A38: =A37+1 -> 33 | B38: D-01.03.04A | C38: Uszczelnienie otworów kanalizacji pierwotnej uszczelkami z pianką poliuretanową - otwór częsciowo wypełniony - analogia | D38: otw. | E38: 4 | G38: =ROUND(F38*E38,2) -> 0
A39: RAZEM PRZEBUDOWA I ZABEZPIECZENIE SIECI ORANGE POLSKA S.A. I TELKOL SP Z O.O. (NETTO): | G39: =SUM(G27:G38,G5:G25) -> 0

Sheet 8 DOR
A1: DOCELOWA ORGANIZACJA RUCHU
A3: Lp. | B3: Nr STWiORB | C3: Opis | D3: jedn. | E3: ilość | F3: Cena jedn. | G3: Wartość
A4: 1.1 | B4: ROZBIÓRKI
A5: 1 | B5: D-01.02.04 | C5: Rozbiórka słupków blokujących kamiennych | D5: szt. | E5: 89 | G5: =ROUND(F5*E5,2) -> 0
A6: =A5+1 -> 2 | B6: D-01.02.04 | C6: Wywóz materiałów kamiennych na magazyn ZDiUM | D6: t | E6: 17.27 | G6: =ROUND(F6*E6,2) -> 0
A7: =A6+1 -> 3 | B7: D-01.02.04 | C7: Demontaż słupków przeszkodowych | D7: szt. | E7: 17 | G7: =ROUND(F7*E7,2) -> 0
A8: =A7+1 -> 4 | B8: D-01.02.04 | C8: Transport materiałów z rozbiórki na składowisko wykonawcy wraz z utylizacją | D8: t | E8: 0.05 | G8: =ROUND(F8*E8,2) -> 0
A9: 1.2 | B9: OZNAKOWANIE POZIOME GRUBOWARSTWOWE
A10: =A8+1 -> 5 | B10: D-07.01.01 | C10: Oznakowanie poziome grubowarstwowe | D10: m2 | E10: 52.37 | G10: =ROUND(F10*E10,2) -> 0
A11: 1.3 | B11: OZNAKOWANIE PIONOWE
A12: =A10+1 -> 6 | B12: D-07.02.01 | C12: Przymocowanie tablic znaków drogowych zakazu, nakazu, ostrzegawczych, informacyjnych - znaki małe, folia typu 2 | D12: szt. | E12: 9 | G12: =ROUND(F12*E12,2) -> 0
A13: =A12+1 -> 7 | B13: D-07.02.01 | C13: Przymocowanie tablic znaków drogowych zakazu, nakazu, ostrzegawczych, informacyjnych o powierzchni do 0.3 m2 | D13: szt. | E13: 3 | G13: =ROUND(F13*E13,2) -> 0
A14: =A13+1 -> 8 | B14: D-07.02.01 | C14: Słupki do znaków drogowych z rur stalowych o śr. 60 mm | D14: szt. | E14: 7 | G14: =ROUND(F14*E14,2) -> 0
A15: 1.4 | B15: URZĄDZENIA BEZPIECZEŃSTWA RUCHU DROGOWEGO
A16: =A14+1 -> 9 | B16: D-07.02.01 | C16: Słupki blokujące model SP/IS-I05 śr. 76 mm wg Katalogu Mebli Miejskich dla Miasta Wrocławia 2014 r. (barwy RAL 7016) | D16: szt. | E16: 86 | G16: =ROUND(F16*E16,2) -> 0
A17: =A16+1 -> 10 | B17: D-07.02.01 | C17: Montaż balustrady typ BB/IS-IO2 wg Katalogu Mebli Miejskich dla Miasta Wrocławia | D17: m | E17: 135.5 | G17: =ROUND(F17*E17,2) -> 0
A18: 1.5 | B18: BARIERY OCHRONNE
A19: =A17+1 -> 11 | B19: D-07.05.01 | C19: Bariery ochronne o parametrach H1W3A | D19: m | E19: 175.6 | G19: =ROUND(F19*E19,2) -> 0
A20: =A19+1 -> 12 | B20: D-07.05.01 | C20: Bariery ochronne o wys. Hmin=1.1m o parametrach N2W3A | D20: m | E20: 264 | G20: =ROUND(F20*E20,2) -> 0
A21: =A20+1 -> 13 | B21: D-07.05.01 | C21: Zakończenia barier ochronnych stalowych jednostronnych - odcinek początkowy nachylony i zakotwiony w gruncie o paramatrach H1W3A | D21: m | E21: 12 | G21: =ROUND(F21*E21,2) -> 0
A22: =A21+1 -> 14 | B22: D-07.05.01 | C22: Zakończenia barier ochronnych stalowych jednostronnych - odcinek końcowy nachylony i zakotwiony w gruncie o parametrach H1W3A | D22: m | E22: 8 | G22: =ROUND(F22*E22,2) -> 0
A23: =A22+1 -> 15 | B23: D-07.05.01 | C23: Zakończenia barier ochronnych stalowych jednostronnych - odcinek początkowy nachylony i zakotwiony w gruncie o paramatrach N2W3A | D23: m | E23: 12 | G23: =ROUND(F23*E23,2) -> 0
A24: =A23+1 -> 16 | B24: D-07.05.01 | C24: Zakończenia barier ochronnych stalowych jednostronnych - odcinek końcowy nachylony i zakotwiony w gruncie o parametrach N2W3A | D24: m | E24: 8 | G24: =ROUND(F24*E24,2) -> 0
A25: =A24+1 -> 17 | B25: M-13.01.00. | C25: Wykonanie fundamentu z betonu C25/30 | D25: m3 | E25: 42.24 | G25: =ROUND(F25*E25,2) -> 0
A26: =A25+1 -> 18 | B26: M-13.01.00. | C26: Montaż zbrojenia fundamenów | D26: t | E26: 1.79 | G26: =ROUND(F26*E26,2) -> 0
A27: RAZEM DOCELOWA ORGANIZACJA RUCHU (NETTO): | G27: =SUM(G5:G26) -> 0
